BEGIN:VCALENDAR
VERSION:2.0
PRODID:-//David Mana - ECPv6.15.11//NONSGML v1.0//EN
CALSCALE:GREGORIAN
METHOD:PUBLISH
X-ORIGINAL-URL:https://davidmana.com
X-WR-CALDESC:Veranstaltungen für David Mana
REFRESH-INTERVAL;VALUE=DURATION:PT1H
X-Robots-Tag:noindex
X-PUBLISHED-TTL:PT1H
BEGIN:VTIMEZONE
TZID:Europe/Berlin
BEGIN:DAYLIGHT
TZOFFSETFROM:+0100
TZOFFSETTO:+0200
TZNAME:CEST
DTSTART:20240331T010000
END:DAYLIGHT
BEGIN:STANDARD
TZOFFSETFROM:+0200
TZOFFSETTO:+0100
TZNAME:CET
DTSTART:20241027T010000
END:STANDARD
BEGIN:DAYLIGHT
TZOFFSETFROM:+0100
TZOFFSETTO:+0200
TZNAME:CEST
DTSTART:20250330T010000
END:DAYLIGHT
BEGIN:STANDARD
TZOFFSETFROM:+0200
TZOFFSETTO:+0100
TZNAME:CET
DTSTART:20251026T010000
END:STANDARD
BEGIN:DAYLIGHT
TZOFFSETFROM:+0100
TZOFFSETTO:+0200
TZNAME:CEST
DTSTART:20260329T010000
END:DAYLIGHT
BEGIN:STANDARD
TZOFFSETFROM:+0200
TZOFFSETTO:+0100
TZNAME:CET
DTSTART:20261025T010000
END:STANDARD
BEGIN:DAYLIGHT
TZOFFSETFROM:+0100
TZOFFSETTO:+0200
TZNAME:CEST
DTSTART:20270328T010000
END:DAYLIGHT
BEGIN:STANDARD
TZOFFSETFROM:+0200
TZOFFSETTO:+0100
TZNAME:CET
DTSTART:20271031T010000
END:STANDARD
END:VTIMEZONE
BEGIN:VEVENT
DTSTART;TZID=Europe/Berlin:20260404T193000
DTEND;TZID=Europe/Berlin:20260404T223000
DTSTAMP:20260419T215709
CREATED:20260105T165349Z
LAST-MODIFIED:20260105T165349Z
UID:1691-1775331000-1775341800@davidmana.com
SUMMARY:David Mana - Solo - Kultur in Weer
DESCRIPTION:
URL:https://davidmana.com/event/david-mana-solo-kultur-in-weer/
ATTACH;FMTTYPE=image/jpeg:https://davidmana.com/wp-content/uploads/2026/01/A_100219-scaled.jpg
END:VEVENT
BEGIN:VEVENT
DTSTART;TZID=Europe/Berlin:20260402T200000
DTEND;TZID=Europe/Berlin:20260402T220000
DTSTAMP:20260419T215709
CREATED:20250505T065648Z
LAST-MODIFIED:20250505T070129Z
UID:1622-1775160000-1775167200@davidmana.com
SUMMARY:David Mana Group - Sichtbar Fügen
DESCRIPTION:
URL:https://davidmana.com/event/david-mana-group-sichtbar-fuegen/
LOCATION:SichtBar in Fügen\, Binderholz Straße 49\, Fügen\, Tirol\, 6263\, Austria
ATTACH;FMTTYPE=image/jpeg:https://davidmana.com/wp-content/uploads/2025/03/David-Mana.jpg
END:VEVENT
BEGIN:VEVENT
DTSTART;TZID=Europe/Berlin:20260314T200000
DTEND;TZID=Europe/Berlin:20260314T220000
DTSTAMP:20260419T215709
CREATED:20250505T072653Z
LAST-MODIFIED:20250505T072653Z
UID:1641-1773518400-1773525600@davidmana.com
SUMMARY:David Mana Solo - Dun Aengus St.Patrick's day Rattenberg
DESCRIPTION:
URL:https://davidmana.com/event/david-mana-solo-dun-aengus-st-patricks-day-rattenberg/
END:VEVENT
BEGIN:VEVENT
DTSTART;TZID=Europe/Berlin:20260129T200000
DTEND;TZID=Europe/Berlin:20260129T220000
DTSTAMP:20260419T215709
CREATED:20250505T064428Z
LAST-MODIFIED:20250505T064921Z
UID:1620-1769716800-1769724000@davidmana.com
SUMMARY:David Mana Group - Komma Wörgl
DESCRIPTION:
URL:https://davidmana.com/event/david-mana-group-komma-woergl/
LOCATION:Komma Wörgl\, Wörgl\, Austria
ATTACH;FMTTYPE=image/jpeg:https://davidmana.com/wp-content/uploads/2025/01/by-Erich-Auer.jpg
END:VEVENT
BEGIN:VEVENT
DTSTART;TZID=Europe/Berlin:20260103T200000
DTEND;TZID=Europe/Berlin:20260103T220000
DTSTAMP:20260419T215709
CREATED:20250916T075759Z
LAST-MODIFIED:20250916T075759Z
UID:1666-1767470400-1767477600@davidmana.com
SUMMARY:Kulturlokal ARCHE NOE - David Mana Solo
DESCRIPTION:Am 03. Januar 2026 präsentiert der italienische Gitarrist und Singer-Songwriter David Mana ein einzigartiges Solo-Konzert im Kulturlokal ARCHE NOE. Mit seiner unverwechselbaren Mischung aus Fingerstyle-Gitarre\, mediterranen Einflüssen\, Jazz\, Folk und poetischen Melodien entführt er das Publikum auf eine musikalische Reise zwischen Tradition und Moderne. David Mana verbindet virtuoses Gitarrenspiel mit emotionalem Ausdruck und feiner Improvisation – ein Erlebnis\, das berührt und begeistert. Die intime Atmosphäre des Kulturlokals ARCHE NOE bietet den perfekten Rahmen für diesen besonderen Abend\, bei dem Musikliebhaber feinste handgemachte Klänge genießen können. Sichern Sie sich rechtzeitig Ihre Tickets und lassen Sie sich von der besonderen Klangwelt David Manas verzaubern.
URL:https://davidmana.com/event/kulturlokal-arche-noe-david-mana-solo/
ATTACH;FMTTYPE=image/jpeg:https://davidmana.com/wp-content/uploads/2025/03/David-Mana-Gesang-und-Gitarre.jpg
END:VEVENT
BEGIN:VEVENT
DTSTART;TZID=Europe/Berlin:20251219T190000
DTEND;TZID=Europe/Berlin:20251219T210000
DTSTAMP:20260419T215709
CREATED:20250524T065015Z
LAST-MODIFIED:20250603T131754Z
UID:1659-1766170800-1766178000@davidmana.com
SUMMARY:Mana-Locher-Auer - Rattenberg
DESCRIPTION:
URL:https://davidmana.com/event/mana-locher-auer-rattenberg/
END:VEVENT
BEGIN:VEVENT
DTSTART;TZID=Europe/Berlin:20251108T200000
DTEND;TZID=Europe/Berlin:20251108T220000
DTSTAMP:20260419T215709
CREATED:20250524T064828Z
LAST-MODIFIED:20250524T064849Z
UID:1657-1762632000-1762639200@davidmana.com
SUMMARY:David Mana Solo - Leseabend Breitenbach
DESCRIPTION:
URL:https://davidmana.com/event/david-mana-solo-leseabend-breitenbach/
ATTACH;FMTTYPE=image/jpeg:https://davidmana.com/wp-content/uploads/2025/01/Ueber_David-Mana-1.jpg
END:VEVENT
BEGIN:VEVENT
DTSTART;TZID=Europe/Berlin:20251008T200000
DTEND;TZID=Europe/Berlin:20251008T220000
DTSTAMP:20260419T215709
CREATED:20250505T063519Z
LAST-MODIFIED:20250505T065425Z
UID:1616-1759953600-1759960800@davidmana.com
SUMMARY:David Mana Group - Jenbach
DESCRIPTION:
URL:https://davidmana.com/event/david-mana-group-jenbach/
LOCATION:vz.jenbach\, Südtirolerplatz 2\, Jenbach\, Tirol\, 6200\, Austria
ATTACH;FMTTYPE=image/jpeg:https://davidmana.com/wp-content/uploads/2025/03/David-Mana-Gesang-und-Gitarre.jpg
END:VEVENT
BEGIN:VEVENT
DTSTART;TZID=Europe/Berlin:20250809T200000
DTEND;TZID=Europe/Berlin:20250809T220000
DTSTAMP:20260419T215709
CREATED:20250524T064610Z
LAST-MODIFIED:20250524T064610Z
UID:1654-1754769600-1754776800@davidmana.com
SUMMARY:David Mana Group - Sommerfest Lienz
DESCRIPTION:
URL:https://davidmana.com/event/david-mana-group-sommerfest-lienz/
LOCATION:Lienz\, Austria
ATTACH;FMTTYPE=image/jpeg:https://davidmana.com/wp-content/uploads/2025/01/Fingerstyle.jpg
END:VEVENT
BEGIN:VEVENT
DTSTART;TZID=Europe/Berlin:20250802T200000
DTEND;TZID=Europe/Berlin:20250802T220000
DTSTAMP:20260419T215709
CREATED:20250123T160108Z
LAST-MODIFIED:20250123T160108Z
UID:1355-1754164800-1754172000@davidmana.com
SUMMARY:David Mana Solo - Stadtfest Rattenberg
DESCRIPTION:
URL:https://davidmana.com/event/david-mana-solo-stadtfest-rattenberg-2/
END:VEVENT
BEGIN:VEVENT
DTSTART;TZID=Europe/Berlin:20250801T193000
DTEND;TZID=Europe/Berlin:20250801T220000
DTSTAMP:20260419T215709
CREATED:20250505T071805Z
LAST-MODIFIED:20250505T075238Z
UID:1632-1754076600-1754085600@davidmana.com
SUMMARY:David Mana & Martin Locher - Weer
DESCRIPTION:Calimero Night 2025
URL:https://davidmana.com/event/david-mana-martin-locher-weer/
ATTACH;FMTTYPE=image/jpeg:https://davidmana.com/wp-content/uploads/2025/01/David-Mana-284-von-326.jpg
END:VEVENT
BEGIN:VEVENT
DTSTART;TZID=Europe/Berlin:20250613T190000
DTEND;TZID=Europe/Berlin:20250613T210000
DTSTAMP:20260419T215709
CREATED:20250524T065815Z
LAST-MODIFIED:20250524T065815Z
UID:1663-1749841200-1749848400@davidmana.com
SUMMARY:David Mana Solo - Grubers Angerberg
DESCRIPTION:
URL:https://davidmana.com/event/david-mana-solo-grubers-angerberg-2/
LOCATION:Grubers Angerberg\, Austria
ATTACH;FMTTYPE=image/jpeg:https://davidmana.com/wp-content/uploads/2025/01/Reise_David-Mana.jpg
END:VEVENT
BEGIN:VEVENT
DTSTART;TZID=Europe/Berlin:20250605T190000
DTEND;TZID=Europe/Berlin:20250605T210000
DTSTAMP:20260419T215709
CREATED:20250524T064117Z
LAST-MODIFIED:20250524T064117Z
UID:1651-1749150000-1749157200@davidmana.com
SUMMARY:David Mana Solo - Grubers Angerberg
DESCRIPTION:
URL:https://davidmana.com/event/david-mana-solo-grubers-angerberg/
LOCATION:Grubers Angerberg\, Austria
ATTACH;FMTTYPE=image/jpeg:https://davidmana.com/wp-content/uploads/2025/01/Reise_David-Mana.jpg
END:VEVENT
BEGIN:VEVENT
DTSTART;TZID=Europe/Berlin:20250531T180000
DTEND;TZID=Europe/Berlin:20250531T200000
DTSTAMP:20260419T215709
CREATED:20250524T063055Z
LAST-MODIFIED:20250524T063306Z
UID:1646-1748714400-1748721600@davidmana.com
SUMMARY:David Mana Solo - Vespa Club bei Auerwirt Kundl
DESCRIPTION:
URL:https://davidmana.com/event/david-mana-solo-vespa-club-bei-auerwirt-kundl/
LOCATION:Auerwirt Kundl\, Austria
ATTACH;FMTTYPE=image/jpeg:https://davidmana.com/wp-content/uploads/2025/03/David-Mana-Gesang-und-Gitarre.jpg
END:VEVENT
BEGIN:VEVENT
DTSTART;TZID=Europe/Berlin:20250425T200000
DTEND;TZID=Europe/Berlin:20250425T220000
DTSTAMP:20260419T215709
CREATED:20250109T100320Z
LAST-MODIFIED:20250109T100320Z
UID:1212-1745611200-1745618400@davidmana.com
SUMMARY:David Mana Solo - Guitarena - Schloss Porcia Spittal an der Drau
DESCRIPTION:
URL:https://davidmana.com/event/david-mana-solo-guitarena-schloss-porcia-spittal-an-der-drau/
END:VEVENT
BEGIN:VEVENT
DTSTART;TZID=Europe/Berlin:20250424T200000
DTEND;TZID=Europe/Berlin:20250424T220000
DTSTAMP:20260419T215709
CREATED:20250109T100238Z
LAST-MODIFIED:20250109T100238Z
UID:1210-1745524800-1745532000@davidmana.com
SUMMARY:David Mana Solo - Die Brücke Graz
DESCRIPTION:
URL:https://davidmana.com/event/david-mana-solo-die-bruecke-graz/
END:VEVENT
BEGIN:VEVENT
DTSTART;TZID=Europe/Berlin:20250417T200000
DTEND;TZID=Europe/Berlin:20250417T220000
DTSTAMP:20260419T215709
CREATED:20250109T100153Z
LAST-MODIFIED:20250123T154623Z
UID:1208-1744920000-1744927200@davidmana.com
SUMMARY:David Mana Group - Sichtbar Binderholz
DESCRIPTION:
URL:https://davidmana.com/event/david-mana-band-sichtbar-binderholz/
END:VEVENT
BEGIN:VEVENT
DTSTART;TZID=Europe/Berlin:20250328T200000
DTEND;TZID=Europe/Berlin:20250328T220000
DTSTAMP:20260419T215709
CREATED:20250109T100052Z
LAST-MODIFIED:20250130T101740Z
UID:1206-1743192000-1743199200@davidmana.com
SUMMARY:David Mana Solo – Eremitage Schwaz
DESCRIPTION:
URL:https://davidmana.com/event/david-mana-solo-eremitage-schwaz/
END:VEVENT
BEGIN:VEVENT
DTSTART;TZID=Europe/Berlin:20250323T190000
DTEND;TZID=Europe/Berlin:20250323T220000
DTSTAMP:20260419T215709
CREATED:20250109T092342Z
LAST-MODIFIED:20250131T072453Z
UID:1185-1742756400-1742767200@davidmana.com
SUMMARY:David Mana Group – Kufstein feat. Gail Anderson
DESCRIPTION:Die David Mana Group lädt zu einem einzigartigen Konzertabend voller mediterraner Klangfarben und akustischer Raffinesse ein. Die Band präsentiert ihre italienischen Eigenkompositionen in einer intimen Besetzung mit Kontrabass\, Cello\, Saxophon\, Percussion und Gitarre – eine harmonische Fusion aus Jazz\, Folk und Weltmusik. \nAls besonderes Highlight wird die charismatische Sängerin Gail Anderson die Bühne mit ihrer unverwechselbaren Stimme bereichern. Mit ihrem gefühlvollen Ausdruck und ihrer Bühnenpräsenz verleiht sie den Kompositionen eine ganz besondere Tiefe. \nFreuen Sie sich auf einen Abend voller Emotion\, Virtuosität und musikalischer Leidenschaft! \n  \nVorverkaufsstelle in Kufstein: Friseur Haarlem\, Bozner Platz 3 \nReservierungen unter muku-kufstein@pm.me \nTickets unter: https://www.paypal.com/ncp/payment/X9PUJW2XC2U3C \nzusätzliche Zahlungsmodalitäten: VVK €18 / Abendkasse €25\, Ermässigte €10 für Schüler der LMS Kufstein\, Wörgl\, Ebbs /
URL:https://davidmana.com/event/david-mana-band-kufstein-musikschule/
LOCATION:Landesmusikschule Kufstein\, Krankenhausgasse 16\, Kufstein\, Tirol\, 6330\, Austria
ATTACH;FMTTYPE=image/jpeg:https://davidmana.com/wp-content/uploads/2025/01/David-Mana-GroupGail.jpg
ORGANIZER;CN="Musikkultur Verein Kufstein":MAILTO:muku-kufstein@pm.me
END:VEVENT
BEGIN:VEVENT
DTSTART;TZID=Europe/Berlin:20250109T200000
DTEND;TZID=Europe/Berlin:20250109T223000
DTSTAMP:20260419T215709
CREATED:20250109T092259Z
LAST-MODIFIED:20250130T101828Z
UID:1183-1736452800-1736461800@davidmana.com
SUMMARY:David Mana Group – Komma Wörgl
DESCRIPTION:
URL:https://davidmana.com/event/david-mana-band-komma-woergl/
END:VEVENT
BEGIN:VEVENT
DTSTART;TZID=Europe/Berlin:20250102T190000
DTEND;TZID=Europe/Berlin:20250102T200000
DTSTAMP:20260419T215709
CREATED:20250109T092212Z
LAST-MODIFIED:20250109T092212Z
UID:1181-1735844400-1735848000@davidmana.com
SUMMARY:Interview mit Klaus Horst - ORF Tirol
DESCRIPTION:
URL:https://davidmana.com/event/interview-mit-klaus-horst-orf-tirol/
END:VEVENT
END:VCALENDAR